BEGIN:VCALENDAR
VERSION:2.0
PRODID:-//ChamberMaster//Event Calendar 2.0//EN
METHOD:PUBLISH
X-PUBLISHED-TTL:P3D
REFRESH-INTERVAL:P3D
CALSCALE:GREGORIAN
BEGIN:VEVENT
DTSTART:20160607T150000Z
DTEND:20160607T160000Z
X-MICROSOFT-CDO-ALLDAYEVENT:FALSE
SUMMARY:Springtime Tulip River Cruise Travel Presentation
DESCRIPTION:You are invited to a special travel informational presentation for our next community trip to the Netherlands! This 9 day trip will be on April 5-13\, 2017. Come and discover the opportunity to go on this amazing trip!
X-ALT-DESC;FMTTYPE=text/html:You are invited to a special travel informational presentation for our next community trip to the Netherlands! This 9 day trip will be on April 5-13\, 2017. Come and discover the opportunity to go on this amazing trip!
LOCATION:Union County Community Center 129 Union County Rec. Rd. Blairsville\, GA
UID:e.256.50967
SEQUENCE:3
DTSTAMP:20260420T203902Z
URL:https://members.visitblairsvillega.com/events/details/springtime-tulip-river-cruise-travel-presentation-06-07-2016-50967
END:VEVENT

END:VCALENDAR
