BEGIN:VCALENDAR
VERSION:2.0
PRODID:-//ChamberMaster//Event Calendar 2.0//EN
METHOD:PUBLISH
X-PUBLISHED-TTL:P3D
REFRESH-INTERVAL:P3D
CALSCALE:GREGORIAN
BEGIN:VEVENT
DTSTART:20151017T110000Z
DTEND:20151017T180000Z
X-MICROSOFT-CDO-ALLDAYEVENT:FALSE
SUMMARY:St. Clare's Big Yard Sale
DESCRIPTION:St Clare's would like to invite you to our fundraising YARD SALE (Rain or shine)\, Saturday\, October 17. The doors will open at 7:30 am.\n\nOur sale will feature furniture\, books\, tools\, small kitchen appliances\,  crafts\, dishes\, glassware\, collectibles\, toys\, sporting goods\, and tons of other stuff You name it\, we will have it Something for everyone. Come and find a real treasure. All items are priced to sell.
X-ALT-DESC;FMTTYPE=text/html:<p>St Clare&rsquo\;s would like to invite you to our fundraising YARD SALE (Rain or shine)\, Saturday\, October 17. The doors will open at 7:30 am.</p>\n\n<p>Our sale will feature furniture\, books\, tools\, small kitchen appliances\,&nbsp\; crafts\, dishes\, glassware\, collectibles\, toys\, sporting goods\, and tons of other stuff&hellip\;You name it\, we will have it&hellip\;Something for everyone. Come and find a real treasure. All items are priced to sell.</p>\n
LOCATION:777 Ledford Road Blairsville\, GA
UID:e.256.44322
SEQUENCE:3
DTSTAMP:20260423T103143Z
URL:https://members.visitblairsvillega.com/events/details/st-clare-s-big-yard-sale-10-17-2015-44322
END:VEVENT

END:VCALENDAR
