BEGIN:VCALENDAR
VERSION:2.0
PRODID:-//ChamberMaster//Event Calendar 2.0//EN
METHOD:PUBLISH
X-PUBLISHED-TTL:P3D
REFRESH-INTERVAL:P3D
CALSCALE:GREGORIAN
BEGIN:VEVENT
DTSTART:20140927T120000Z
DTEND:20140927T210000Z
X-MICROSOFT-CDO-ALLDAYEVENT:FALSE
SUMMARY:St. Francis of Assisi Fall Festival
DESCRIPTION:Look for the 13 foot Smoky the Bear\n\nLargest Fall Festival in the Area  \n\nSt. Francis of Assisi Fall Festival\n\n3717 Hwy 515\, Blairsville\n\nSeptember 26\, 8am - 5pm\n\nSeptember 27\, 8am - 5pm\n\nSeptember 28\, 9am - 2pm\n\nFamily Fun Day\n\nAll children's games are always free\, and this year a new feature of alternating live entertainment\, and live radio remote\, will fill the air with delight.\n\nSilent Auction\, filled with artwork\, fine collectibles\, vacations\, handcrafted furniture\, and antiques. Enticing Jewelry booth\, featuring fine quality pieces\, and costume jewelry all priced below appraised value\n\nShoppers challenged by the aroma of the Baked Goods booth\n\nCrafts Corner\, Collectibles\, and Holiday Decor fill the hall with handmade craft items\, supplies\, and decorations for every season.\n\nRaffle tickets for cash prizes\, Raffle baskets with gift certificates for area services\n\nA Health check booth \n\nPlant\,  Garden\,  Art Booth\n\nWhite Elephant\, Books\, and other media\n\nClothing Booth\, filled with fashion galore in all sizes and for the entire family\n\nThe International Foods Booth leaves everyone very satisfied.\n\nThe Union County Sheriff's department directs traffic\, and golf carts are ready to assist attendees up the hill.\n\nA day of shopping\, dining and enjoying festival fun awaits all.
X-ALT-DESC;FMTTYPE=text/html:Look for the 13 foot Smoky the Bear<br />\n<strong>Largest Fall Festival in the Area &nbsp\;<br />\nSt. Francis of Assisi Fall Festival</strong><br />\n3717 Hwy 515\, Blairsville<br />\nSeptember 26\, 8am&nbsp\;- 5pm<br />\nSeptember 27\, 8am&nbsp\;- 5pm<br />\nSeptember 28\, 9am&nbsp\;- 2pm<br />\nFamily Fun Day<br />\nAll children&#39\;s games are always free\, and this year a new feature of alternating live entertainment\, and live radio remote\, will fill the air with delight.<br />\n<strong>Silent Auction</strong>\, filled with artwork\, fine collectibles\, vacations\, handcrafted furniture\, and antiques. <strong>Enticing Jewelry</strong> booth\, featuring fine quality pieces\, and costume jewelry all priced below appraised value<br />\nShoppers challenged by the aroma of the <strong>Baked Goods </strong>booth<br />\n<strong>Crafts</strong> Corner\, Collectibles\, and Holiday Decor fill the hall with handmade craft items\, supplies\, and decorations for every season.<br />\n<strong>Raffle</strong> tickets for cash prizes\, Raffle baskets with gift certificates for area services<br />\nA <strong>Health check </strong>booth&nbsp\;<br />\n<strong>Plant\, &nbsp\;Garden\, &nbsp\;Art</strong> Booth<br />\n<strong>White Elephant</strong>\, Books\, and other media<br />\n<strong>Clothing </strong>Booth\, filled with fashion galore in all sizes and for the entire family<br />\nThe <strong>International Foods </strong>Booth leaves everyone very satisfied.<br />\nThe Union County Sheriff&#39\;s department directs traffic\, and golf carts are ready to assist attendees up the hill.<br />\n<strong>A day of shopping\, dining and enjoying festival fun awaits all.</strong>
LOCATION:St Francis Assisi Church 3717 Hwy 515 Blairsville
UID:e.256.26169
SEQUENCE:3
DTSTAMP:20260424T063332Z
URL:https://members.visitblairsvillega.com/events/details/st-francis-of-assisi-fall-festival-09-27-2014-26169
END:VEVENT

END:VCALENDAR
