BEGIN:VCALENDAR
VERSION:2.0
PRODID:-//ChamberMaster//Event Calendar 2.0//EN
METHOD:PUBLISH
X-PUBLISHED-TTL:P3D
REFRESH-INTERVAL:P3D
CALSCALE:GREGORIAN
BEGIN:VEVENT
DTSTART:20161203T140000Z
DTEND:20161203T200000Z
X-MICROSOFT-CDO-ALLDAYEVENT:FALSE
SUMMARY:St. Luke's Episcopal Church 10th Annual Christmas Bazaar
DESCRIPTION:10th Annual St. Luke's Episcopal Church Christmas Bazaar\, Blue Ridge\, Ga. Saturday\, December 3\, 9 AM to 3 PM at the 18th Century- inspired Wetherburn Tavern at High Hope Plantation. Handcrafted gifts\, jewelry\, art\, cabin d cor\, handmade cards\, holiday decorations\, stocking stuffers\, hand knitted items\, and more! Homemade jams\, pickles\, candies and baked goods. Silent Auction featuring an English dinner for 4 at St. Luke's Rectory and raffle items.
X-ALT-DESC;FMTTYPE=text/html:10th Annual St. Luke&rsquo\;s Episcopal Church Christmas Bazaar\, Blue Ridge\, Ga. Saturday\, December 3\, 9 AM to 3 PM at the 18th Century- inspired Wetherburn Tavern at High Hope Plantation. Handcrafted gifts\, jewelry\, art\, cabin d&eacute\;cor\, handmade cards\, holiday decorations\, stocking stuffers\, hand knitted items\, and more! Homemade jams\, pickles\, candies and baked goods. Silent Auction featuring an English dinner for 4 at St. Luke&rsquo\;s Rectory and raffle items.
LOCATION:High Hope Plantation- One mile north of Blue Ridge on Hwy 5. Follow the signs. Free Admission. Proceeds benefit the community
UID:e.256.59198
SEQUENCE:3
DTSTAMP:20260420T094325Z
URL:https://members.visitblairsvillega.com/events/details/st-luke-s-episcopal-church-10th-annual-christmas-bazaar-59198
END:VEVENT

END:VCALENDAR
