BEGIN:VCALENDAR
VERSION:2.0
PRODID:-//ChamberMaster//Event Calendar 2.0//EN
METHOD:PUBLISH
X-PUBLISHED-TTL:P3D
REFRESH-INTERVAL:P3D
CALSCALE:GREGORIAN
BEGIN:VEVENT
DTSTART:20171202T140000Z
DTEND:20171202T200000Z
X-MICROSOFT-CDO-ALLDAYEVENT:FALSE
SUMMARY:St. Luke's Episcopal Church 11th Annual Christmas Bazaar
DESCRIPTION:11th Annual St. Luke's Episcopal Church Christmas Bazaar\, Saturday\, December 2\, 9 AM to 3 PM. Handcrafted gifts\, jewelry\, art\, cabin d cor\, handmade cards\, holiday decorations\, stocking stuffers\, hand knitted items\, and more! Homemade jams\, pickles\, candies and baked goods. Silent Auction featuring an English dinner for 4 at St. Luke's Rectory and raffle items. Free Admission. Proceeds benefit the community. St. Luke's Episcopal Church 7 Ewing St.\, Blue Ridge\, Georgia (just a few blocks from downtown Blue Ridge-across from the Kiwanis Fair Grounds)
X-ALT-DESC;FMTTYPE=text/html:11th Annual St. Luke&rsquo\;s Episcopal Church Christmas Bazaar\, Saturday\, December 2\, 9 AM to 3 PM. Handcrafted gifts\, jewelry\, art\, cabin d&eacute\;cor\, handmade cards\, holiday decorations\, stocking stuffers\, hand knitted items\, and more! Homemade jams\, pickles\, candies and baked goods. Silent Auction featuring an English dinner for 4 at St. Luke&rsquo\;s Rectory and raffle items. Free Admission. Proceeds benefit the community. St. Luke&#39\;s Episcopal Church 7 Ewing St.\, Blue Ridge\, Georgia (just a few blocks from downtown Blue Ridge-across from the Kiwanis Fair Grounds)
LOCATION:St. Luke's Episcopal Church 7 Ewing Street Blue Ridge\, Georgia (across from the Kiwanis Club Fairgrounds)
UID:e.256.76112
SEQUENCE:3
DTSTAMP:20260419T121611Z
URL:https://members.visitblairsvillega.com/events/details/st-luke-s-episcopal-church-11th-annual-christmas-bazaar-76112
END:VEVENT

END:VCALENDAR
