BEGIN:VCALENDAR
VERSION:2.0
PRODID:-//ChamberMaster//Event Calendar 2.0//EN
METHOD:PUBLISH
X-PUBLISHED-TTL:P3D
REFRESH-INTERVAL:P3D
CALSCALE:GREGORIAN
BEGIN:VEVENT
DTSTART:20141206T140000Z
DTEND:20141206T200000Z
X-MICROSOFT-CDO-ALLDAYEVENT:FALSE
SUMMARY:St. Lukes Annual Christmas Bazaar
DESCRIPTION:St. Luke's Episcopal Church\, Blue Ridge\, Georgia\, is happy to announce it's eighth annual Christmas bazaar and silent auction. Available items will include original art\, craft items\, baked goods and homemade jams\, jellies\, pickles and candy. Proceeds from the event go to community project designated by the Episcopal Church Women. Please see our website for photos of previous bazaars.
X-ALT-DESC;FMTTYPE=text/html:St. Luke&#39\;s Episcopal Church\, Blue Ridge\, Georgia\, is happy to announce it&#39\;s eighth annual Christmas bazaar and silent auction. Available items will include original art\, craft items\, baked goods and homemade jams\, jellies\, pickles and candy. Proceeds from the event go to community project designated by the Episcopal Church Women. Please see our website for photos of previous bazaars.
LOCATION:Wetherburn Tavern High Hope Plantation\, just off Hwy. 5\, Blue Ridge
UID:e.256.26234
SEQUENCE:3
DTSTAMP:20260424T020254Z
URL:https://members.visitblairsvillega.com/events/details/st-lukes-annual-christmas-bazaar-12-06-2014-26234
END:VEVENT

END:VCALENDAR
