BEGIN:VCALENDAR
VERSION:2.0
PRODID:-//ChamberMaster//Event Calendar 2.0//EN
METHOD:PUBLISH
X-PUBLISHED-TTL:P3D
REFRESH-INTERVAL:P3D
CALSCALE:GREGORIAN
BEGIN:VEVENT
DTSTART:20140315T160000Z
DTEND:20140315T210000Z
X-MICROSOFT-CDO-ALLDAYEVENT:FALSE
SUMMARY:St. Patrick's Celebration at Hightower Creek Vineyards featuring the Bear Notes
DESCRIPTION:We're celebrating the " wearin' of the green" and you are invited!! We are having Irish Stew from 12-5pm and\, from 2-5pm\, the Irish group\, The Bear Notes\, will be performing Irish tunes. This is a fun group that you're sure to enjoy! $10.00 admission includes soup and a glass of wine or a tasting. Come join us and don't forget to wear green to celebrate St. Patrick's Day!!
X-ALT-DESC;FMTTYPE=text/html:We&#39\;re celebrating the &quot\;&nbsp\;wearin&#39\; of the green&quot\; and you are invited!! We are having Irish Stew from 12-5pm and\, from 2-5pm\, the Irish group\, The Bear Notes\, will be performing Irish tunes. This is a fun group that you&#39\;re sure to enjoy! $10.00 admission includes soup and a glass of wine or a tasting. Come join us and don&#39\;t forget to wear green to celebrate St. Patrick&#39\;s Day!!
LOCATION:7150 Canaan Drive Hiawassee\, GA 30546 about 10 miles east of Hiawassee on Highway 76.
UID:e.256.23246
SEQUENCE:3
DTSTAMP:20260424T152044Z
URL:https://members.visitblairsvillega.com/events/details/st-patrick-s-celebration-at-hightower-creek-vineyards-featuring-the-bear-notes-03-15-2014-23246
END:VEVENT

END:VCALENDAR
