BEGIN:VCALENDAR
VERSION:2.0
PRODID:-//ChamberMaster//Event Calendar 2.0//EN
METHOD:PUBLISH
X-PUBLISHED-TTL:P3D
REFRESH-INTERVAL:P3D
CALSCALE:GREGORIAN
BEGIN:VEVENT
DTSTART:20140317T200000Z
DTEND:20140318T000000Z
X-MICROSOFT-CDO-ALLDAYEVENT:FALSE
SUMMARY:St Patrick's Day at The View Grill
DESCRIPTION:You're Invited!\n\nThe View Grill is celebrating St. Patrick's Day with Corned Beef and Cabbage\n\nMonday\, March 17\, 2014\n\n4:00pm till Close
X-ALT-DESC;FMTTYPE=text/html:<strong><em><span style="font-size: 14px\;">You&#39\;re Invited!</span><br />\n<span style="font-size: 12px\;">The View Grill is celebrating St. Patrick&#39\;s Day with Corned Beef and Cabbage<br />\nMonday\, March 17\, 2014<br />\n4:00pm till Close<br />\n&nbsp\;</span></em></strong>
LOCATION:The View Grill located at The Union County Community Center 129 Union County Rec Rd Blairsville
UID:e.256.23439
SEQUENCE:3
DTSTAMP:20260424T152117Z
URL:https://members.visitblairsvillega.com/events/details/st-patrick-s-day-at-the-view-grill-03-17-2014-23439
END:VEVENT

END:VCALENDAR
