BEGIN:VCALENDAR
VERSION:2.0
PRODID:-//ChamberMaster//Event Calendar 2.0//EN
METHOD:PUBLISH
X-PUBLISHED-TTL:P3D
REFRESH-INTERVAL:P3D
CALSCALE:GREGORIAN
BEGIN:VEVENT
DTSTART:20150314T160000Z
DTEND:20150314T210000Z
X-MICROSOFT-CDO-ALLDAYEVENT:FALSE
SUMMARY:St. Patrick's Day Celebration at Hightower Creek Vineyards
DESCRIPTION:Come join us for the wearin' of the green! We are having Irish Stew and live Irish music by Marie Dunkle from 1-4pm. She is quite entertaining so be ready to have a great afternoon! Admission is $10.00 and includes a glass of wine or wine tasting.
X-ALT-DESC;FMTTYPE=text/html:Come join us for the wearin&#39\; of the green! We are having Irish Stew and live Irish music by Marie Dunkle from 1-4pm. She is quite entertaining so be ready to have a great afternoon! Admission is $10.00 and includes a glass of wine or wine tasting.&nbsp\;
LOCATION:7150 Canaan Drive Hiawassee\, GA 30546
UID:e.256.36917
SEQUENCE:3
DTSTAMP:20260423T212234Z
URL:https://members.visitblairsvillega.com/events/details/st-patrick-s-day-celebration-at-hightower-creek-vineyards-03-14-2015-36917
END:VEVENT

END:VCALENDAR
