BEGIN:VCALENDAR
VERSION:2.0
PRODID:-//ChamberMaster//Event Calendar 2.0//EN
METHOD:PUBLISH
X-PUBLISHED-TTL:P3D
REFRESH-INTERVAL:P3D
CALSCALE:GREGORIAN
BEGIN:VEVENT
DTSTART:20160319T130000Z
DTEND:20160319T200000Z
X-MICROSOFT-CDO-ALLDAYEVENT:FALSE
SUMMARY:St Patrick's Guided Horse Ride
DESCRIPTION:Celebrate the luck of the Irish with a special St Patrick's Day Guided Horse Ride. Price includes: *90-minute private Guided Trail Ride from Trackrock Stables through the meadows\, streams and woods surrounding the Trackrock mountains *Complimentary Professional Photo of you with beautiful Trackrock horses as well as informal shots of your outing *A break during your ride to savor s'mores and hot chocolate by the fire *Complimentary souvenir mug
X-ALT-DESC;FMTTYPE=text/html:Celebrate the luck of the Irish with a special St Patrick&#39\;s Day Guided Horse Ride. Price includes: *90-minute private Guided Trail Ride from Trackrock Stables through the meadows\, streams and woods surrounding the Trackrock mountains *Complimentary Professional Photo of you with beautiful Trackrock horses as well as informal shots of your outing *A break during your ride to savor s&#39\;mores and hot chocolate by the fire *Complimentary souvenir mug
LOCATION:Trackrock Stables 202 Trackrock Camp Road Blairsville\, GA
UID:e.256.49833
SEQUENCE:3
DTSTAMP:20260421T021659Z
URL:https://members.visitblairsvillega.com/events/details/st-patrick-s-guided-horse-ride-03-19-2016-49833
END:VEVENT

END:VCALENDAR
