BEGIN:VCALENDAR
VERSION:2.0
PRODID:-//ChamberMaster//Event Calendar 2.0//EN
METHOD:PUBLISH
X-PUBLISHED-TTL:P3D
REFRESH-INTERVAL:P3D
CALSCALE:GREGORIAN
BEGIN:VEVENT
DTSTART:20150317T220000Z
DTEND:20150318T030000Z
X-MICROSOFT-CDO-ALLDAYEVENT:FALSE
SUMMARY:St. Patricks Day @ Brassies Grille
DESCRIPTION:Brasstown Valley Resort & Spa invites you to enjoy St Patrick's Day in Brassies's Grille located on the Club Level of the Resort main building There will be traditional Irish music \, food and several drink specials to celebrate St. Patty's Day without Green Beer! Our band for the evening is Emerald Isle\, and the culinary team will be cooking up some Irish favorites and our bartenders will create some interesting beverages for the evening such as\, The Dancing Leprechaun\, Emerald Isle\, Dublin Handshake and the Nutty Irishman. So make plans to join us on March 17th for food\, music and fun.
X-ALT-DESC;FMTTYPE=text/html:Brasstown Valley Resort &amp\; Spa invites you to enjoy St Patrick&#39\;s Day in Brassies&#39\;s Grille located on the Club Level of the Resort main building There will be traditional Irish music \, food and several drink specials to celebrate St. Patty&#39\;s Day without Green Beer! Our band for the evening is Emerald Isle\, and the culinary team will be cooking up some Irish favorites and our bartenders will create some interesting beverages for the evening such as\, The Dancing Leprechaun\, Emerald Isle\, Dublin Handshake and the Nutty Irishman. So make plans to join us on March 17th for food\, music and fun.
LOCATION:Brassies Grille @ Brasstown Valley Resort Young Harris
UID:e.256.37668
SEQUENCE:3
DTSTAMP:20260423T225647Z
URL:https://members.visitblairsvillega.com/events/details/st-patricks-day-brassies-grille-03-17-2015-37668
END:VEVENT

END:VCALENDAR
