BEGIN:VCALENDAR
VERSION:2.0
PRODID:-//ChamberMaster//Event Calendar 2.0//EN
METHOD:PUBLISH
X-PUBLISHED-TTL:P3D
REFRESH-INTERVAL:P3D
CALSCALE:GREGORIAN
BEGIN:VEVENT
DTSTART:20150912T233000Z
DTEND:20150913T035000Z
X-MICROSOFT-CDO-ALLDAYEVENT:FALSE
SUMMARY:STARS of Center Stage
DESCRIPTION:Ever wanted to show off? Here's your chance! The Smoky Mountain Center for the Performing Arts is proud to present Who's Got Talent\, a local talent competition open to singers\, dancers\, musicians\, variety acts and more. Experience the magic of the spot light while the audience votes for their favorite act and the winner of a cash prize. Check out the theater website for more information about auditions and your chance to be a star for a night! AUDITIONS ? Monday\, August 17. Registration begins at 6:00pm. All acts should be no more than 2 minutes\, 30 seconds in length and should take no more than 1 minute of set up time. Acts chosen to move on to the Sept 12 competition may be up to 3 minutes in length.
X-ALT-DESC;FMTTYPE=text/html:Ever wanted to show off? Here&#39\;s your chance! The Smoky Mountain Center for the Performing Arts is proud to present Who&#39\;s Got Talent\, a local talent competition open to singers\, dancers\, musicians\, variety acts and more. Experience the magic of the spot light while the audience votes for their favorite act and the winner of a cash prize. Check out the theater website for more information about auditions and your chance to be a star for a night! AUDITIONS ? Monday\, August 17. Registration begins at 6:00pm. All acts should be no more than 2 minutes\, 30 seconds in length and should take no more than 1 minute of set up time. Acts chosen to move on to the Sept 12 competition may be up to 3 minutes in length.
LOCATION:Smoky Mountain Center for the Performing Arts 1028 Georgia Rd Franklin\, NC 28734
UID:e.256.41327
SEQUENCE:3
DTSTAMP:20260423T121858Z
URL:https://members.visitblairsvillega.com/events/details/stars-of-center-stage-09-12-2015-41327
END:VEVENT

END:VCALENDAR
