BEGIN:VCALENDAR
VERSION:2.0
PRODID:-//ChamberMaster//Event Calendar 2.0//EN
METHOD:PUBLISH
X-PUBLISHED-TTL:P3D
REFRESH-INTERVAL:P3D
CALSCALE:GREGORIAN
BEGIN:VEVENT
DTSTART:20170314T130000Z
DTEND:20170314T160000Z
X-MICROSOFT-CDO-ALLDAYEVENT:FALSE
SUMMARY:Start Smart
DESCRIPTION:The UGA Small Business Development Center\, a public Service and Outreach Unit of UGA offers a signature series for entrepreneurs called the SBDC StartSmart Program. Each participant acquires skills about marketing strategies\, business planning\, acquiring capital from banks and investors plus access to management tools and resources.
X-ALT-DESC;FMTTYPE=text/html:The UGA Small Business Development Center\, a public Service and Outreach Unit of UGA offers a signature series for entrepreneurs called the SBDC StartSmart Program. Each participant acquires skills about marketing strategies\, business planning\, acquiring capital from banks and investors plus access to management tools and resources.&nbsp\;<br />\n&nbsp\;
LOCATION:Gainesville
UID:e.256.57723
SEQUENCE:3
DTSTAMP:20260420T042218Z
URL:https://members.visitblairsvillega.com/events/details/start-smart-03-14-2017-57723
END:VEVENT

END:VCALENDAR
