BEGIN:VCALENDAR
VERSION:2.0
PRODID:-//ChamberMaster//Event Calendar 2.0//EN
METHOD:PUBLISH
X-PUBLISHED-TTL:P3D
REFRESH-INTERVAL:P3D
CALSCALE:GREGORIAN
BEGIN:VEVENT
DTSTART:20141205T223000Z
DTEND:20141206T003000Z
X-MICROSOFT-CDO-ALLDAYEVENT:FALSE
SUMMARY:Start Your Holiday with "A Christmas Carol"
DESCRIPTION:Come see a creative\, hour-long version of Charles Dickens' "A Christmas Carol\," performed by the Hampstead Stage Company of New Hampshire and sponsored by the Union County Library and Friends of the Library. The admission of $8.00 includes a choice of desserts and beverage. Tickets can be purchased at the library. This is a great holiday event -- please join us.
X-ALT-DESC;FMTTYPE=text/html:Come see a creative\, hour-long version of Charles Dickens&#39\; &quot\;A Christmas Carol\,&quot\; performed by the Hampstead Stage Company of New Hampshire and sponsored by the Union County Library and Friends of the Library. The admission of $8.00 includes a choice of desserts and beverage. Tickets can be purchased at the library. This is a great holiday event -- please join us.
LOCATION:Union County Public Library 303 Hunt Martin Street Blairsville
UID:e.256.27833
SEQUENCE:3
DTSTAMP:20260424T020426Z
URL:https://members.visitblairsvillega.com/events/details/start-your-holiday-with-a-christmas-carol-12-05-2014-27833
END:VEVENT

END:VCALENDAR
