BEGIN:VCALENDAR
VERSION:2.0
PRODID:-//ChamberMaster//Event Calendar 2.0//EN
METHOD:PUBLISH
X-PUBLISHED-TTL:P3D
REFRESH-INTERVAL:P3D
CALSCALE:GREGORIAN
BEGIN:VEVENT
DTSTART:20150609T180000Z
DTEND:20150609T190000Z
X-MICROSOFT-CDO-ALLDAYEVENT:FALSE
SUMMARY:Staying On Your Feet
DESCRIPTION:How to Keep Your Balance & Prevent Falls.\n\nThe Statistics Are Startling Each year\, 1 in 3 seniors over the age of 65 experiences at least one fall\; and\, Each year 1 in 2 seniors of the age of 80\n\nexperiences a fall Don't Be Part of the Statistics!\n\nRon Westfall\, PT\, an expert in mobility and motion will help you understand what you can do to: PREVENT FALLS MODIFY YOUR HOME TO STAY SAFE INCREASE YOUR STRENGTH AND FLEXIBILITY.\n\nClass Topics:\n\nFalls Prevention\, Physical Activity\, & Home Modification
X-ALT-DESC;FMTTYPE=text/html:<strong>How to Keep Your Balance &amp\; Prevent Falls.</strong><br />\nThe Statistics Are Startling Each year\, 1 in 3 seniors over the age of 65 experiences at least one fall\; and\, Each year 1 in 2 seniors of the age of 80<br />\nexperiences a fall Don&rsquo\;t Be Part of the Statistics!<br />\nRon Westfall\, PT\, an expert in mobility and motion will help you understand what you can do to: PREVENT FALLS MODIFY YOUR HOME TO STAY SAFE INCREASE YOUR STRENGTH AND FLEXIBILITY.<br />\nClass Topics:<br />\nFalls Prevention\, Physical Activity\, &amp\; Home Modification
LOCATION:Union County Hospital 2nd floor classroom
UID:e.256.40317
SEQUENCE:3
DTSTAMP:20260423T165324Z
URL:https://members.visitblairsvillega.com/events/details/staying-on-your-feet-06-09-2015-40317
END:VEVENT

END:VCALENDAR
