BEGIN:VCALENDAR
VERSION:2.0
PRODID:-//ChamberMaster//Event Calendar 2.0//EN
METHOD:PUBLISH
X-PUBLISHED-TTL:P3D
REFRESH-INTERVAL:P3D
CALSCALE:GREGORIAN
BEGIN:VEVENT
DTSTART:20150626T230000Z
DTEND:20150627T010000Z
X-MICROSOFT-CDO-ALLDAYEVENT:FALSE
SUMMARY:Steve Hickman & John Devine at John C. Campbell Folk School
DESCRIPTION:Steve Hickman & John Devine - fiddle tunes\, hambone & great singing
X-ALT-DESC;FMTTYPE=text/html:<div>Steve Hickman &amp\; John Devine - fiddle tunes\, hambone &amp\; great singing</div>\n
LOCATION:Community Room at John C. Campbell Folk School Brasstown\, NC 28902
UID:e.256.40222
SEQUENCE:3
DTSTAMP:20260423T182506Z
URL:https://members.visitblairsvillega.com/events/details/steve-hickman-john-devine-at-john-c-campbell-folk-school-06-26-2015-40222
END:VEVENT

END:VCALENDAR
