BEGIN:VCALENDAR
VERSION:2.0
PRODID:-//ChamberMaster//Event Calendar 2.0//EN
METHOD:PUBLISH
X-PUBLISHED-TTL:P3D
REFRESH-INTERVAL:P3D
CALSCALE:GREGORIAN
BEGIN:VEVENT
DTSTART:20150905T233000Z
DTEND:20150906T035500Z
X-MICROSOFT-CDO-ALLDAYEVENT:FALSE
SUMMARY:Steven Curtis Chapman
DESCRIPTION:Steven Curtis Chapman is a name that anyone and everyone who listens to Christian music knows. After starting his career in the late 1980s as a singer-songwriter of contemporary Christian music\, Chapman has since been recognized as one of the most prolific singers in the genre\, releasing over 20 albums. Chapman has also won five Grammy awards and 58 Gospel Music Association Dove Awards\, more than any other artist in history. His seven "Artist of the Year" Dove Awards\, are also an industry record. Chapman has sold more than 10 million albums and has eight certified Gold or Platinum albums\, including The Glorious Unfolding\, Deep Roots\, and This Moment. When asked about his many accomplishments\, Chapman's response continues to honor his foundation of faith\, I'm very\, very grateful to be given the opportunity to make music and share the things that I feel like God has entrusted to me."
X-ALT-DESC;FMTTYPE=text/html:Steven Curtis Chapman is a name that anyone and everyone who listens to Christian music knows. After starting his career in the late 1980s as a singer-songwriter of contemporary Christian music\, Chapman has since been recognized as one of the most prolific singers in the genre\, releasing over 20 albums. Chapman has also won five Grammy awards and 58 Gospel Music Association Dove Awards\, more than any other artist in history. His seven &quot\;Artist of the Year&quot\; Dove Awards\, are also an industry record. Chapman has sold more than 10 million albums and has eight certified Gold or Platinum albums\, including The Glorious Unfolding\, Deep Roots\, and This Moment. When asked about his many accomplishments\, Chapman&#39\;s response continues to honor his foundation of faith\, I&#39\;m very\, very grateful to be given the opportunity to make music and share the things that I feel like God has entrusted to me.&quot\;
LOCATION:Smoky Mountain Center for the Performing Arts 1028 Georgia Rd Franklin\, NC 28734
UID:e.256.41325
SEQUENCE:3
DTSTAMP:20260423T121545Z
URL:https://members.visitblairsvillega.com/events/details/steven-curtis-chapman-09-05-2015-41325
END:VEVENT

END:VCALENDAR
