BEGIN:VCALENDAR
VERSION:2.0
PRODID:-//ChamberMaster//Event Calendar 2.0//EN
METHOD:PUBLISH
X-PUBLISHED-TTL:P3D
REFRESH-INTERVAL:P3D
CALSCALE:GREGORIAN
BEGIN:VEVENT
DTSTART:20161007T180000Z
DTEND:20161007T220000Z
X-MICROSOFT-CDO-ALLDAYEVENT:FALSE
SUMMARY:Stonehenge Senior Living's Fall Festival
DESCRIPTION:Stonehenge welcomes all to come and celebrate autumn with us at our Fall Festival. Lots of activities and fun will be available including Square Dancing\, Ball Pond\, Corn Hole\, Dunking Booth and many others.  Refreshments will be served! Come join us!!!!
X-ALT-DESC;FMTTYPE=text/html:Stonehenge welcomes all to come and celebrate autumn&nbsp\;with us at our Fall Festival.&nbsp\;Lots of activities and fun will be available including Square Dancing\, Ball Pond\, Corn Hole\, Dunking Booth and many others. &nbsp\;Refreshments will be served! Come join us!!!!
LOCATION:Stonehenge Senior Living\, 168 Stonehenge Drive\, Blairssville
UID:e.256.59237
SEQUENCE:3
DTSTAMP:20260420T144805Z
URL:https://members.visitblairsvillega.com/events/details/stonehenge-senior-living-s-fall-festival-59237
END:VEVENT

END:VCALENDAR
