BEGIN:VCALENDAR
VERSION:2.0
PRODID:-//ChamberMaster//Event Calendar 2.0//EN
METHOD:PUBLISH
X-PUBLISHED-TTL:P3D
REFRESH-INTERVAL:P3D
CALSCALE:GREGORIAN
BEGIN:VEVENT
DTSTART:20161031T210000Z
DTEND:20161031T220000Z
X-MICROSOFT-CDO-ALLDAYEVENT:FALSE
SUMMARY:Stonehenge Senior Living Treat or Trick
DESCRIPTION:Stonehenge Senior Living invites the children of Blairsville to come and join us before Trick and Treating on the Square on Oct 31st from 5 to 6pm. Stonehenge Senior Living residents are looking forward to seeing all the children dressed in their costumes. So mark your calendars and come and join in on the Halloween Fun here at Stonehenge Senior Living\, 168 Stonehenge Drive. Blairsville\, GA 30512.
X-ALT-DESC;FMTTYPE=text/html:Stonehenge Senior Living invites the children of Blairsville to come and join us before Trick and Treating on the Square on Oct 31st from 5 to 6pm. Stonehenge Senior Living residents are looking forward to seeing all the children dressed in their costumes. So mark your calendars and come and join in on the Halloween Fun here at Stonehenge Senior Living\, 168 Stonehenge Drive. Blairsville\, GA 30512.&nbsp\;
LOCATION:Stonehenge Senior Living\, 168 Stonehenge Drive\, Blairsville\, GA
UID:e.256.59439
SEQUENCE:3
DTSTAMP:20260420T131605Z
URL:https://members.visitblairsvillega.com/events/details/stonehenge-senior-living-treat-or-trick-59439
END:VEVENT

END:VCALENDAR
