BEGIN:VCALENDAR
VERSION:2.0
PRODID:-//ChamberMaster//Event Calendar 2.0//EN
METHOD:PUBLISH
X-PUBLISHED-TTL:P3D
REFRESH-INTERVAL:P3D
CALSCALE:GREGORIAN
BEGIN:VEVENT
DTSTART:20161022T180000Z
DTEND:20161022T191500Z
X-MICROSOFT-CDO-ALLDAYEVENT:FALSE
SUMMARY:Stonehenge Senior Living Ultimate Bingo
DESCRIPTION:Stonehenge Senior Living is having Ultimate Bingo at Building # 3 on Oct 22 at 2pm. Everyone loves Bingo and we always have a great time here at Stonehenge Senior Living.
X-ALT-DESC;FMTTYPE=text/html:Stonehenge Senior Living is having Ultimate Bingo at Building # 3 on Oct 22 at 2pm. Everyone loves Bingo and we always have a great time here at Stonehenge Senior Living. &nbsp\;
LOCATION:Stonehenge Senior Living at Building #3\, Blairsville Georgia
UID:e.256.59440
SEQUENCE:3
DTSTAMP:20260420T144556Z
URL:https://members.visitblairsvillega.com/events/details/stonehenge-senior-living-ultimate-bingo-59440
END:VEVENT

END:VCALENDAR
