BEGIN:VCALENDAR
VERSION:2.0
PRODID:-//ChamberMaster//Event Calendar 2.0//EN
METHOD:PUBLISH
X-PUBLISHED-TTL:P3D
REFRESH-INTERVAL:P3D
CALSCALE:GREGORIAN
BEGIN:VEVENT
DTSTART:20160718T150000Z
DTEND:20160718T160000Z
X-MICROSOFT-CDO-ALLDAYEVENT:FALSE
SUMMARY:Storytime at Union County Public Library
DESCRIPTION:This year's theme is "On Your Mark\, Get Set...Read!" and it will be happening at all four branches of the Mountain Regional Library System. "The Summer Reading Program seems to just keep growing year after year\," says Union County Librarian Susie Brendle. "We have some great things lined up and will be announcing our schedule of events and programs very soon."\n\nBe sure to check with your local branch to learn about how you can keep your kids reading all through Summer.
X-ALT-DESC;FMTTYPE=text/html:<p class="font_8" style="line-height: 18.2px\; font-size: 15px\;"><span style="font-family: &quot\;open sans&quot\;\, sans-serif\;"><span class="color_2">This year&#39\;s theme is &quot\;On Your Mark\, Get Set...Read!&quot\; and it will be happening at all four branches of the Mountain Regional Library System.&nbsp\;</span></span><span style="font-family: &quot\;open sans&quot\;\, sans-serif\;"><span class="color_2">&quot\;The&nbsp\;Summer&nbsp\;Reading&nbsp\;Program&nbsp\;</span></span><span style="font-family: &quot\;open sans&quot\;\, sans-serif\;"><span class="color_2">seems to just keep growing year after year\,&quot\; says Union County Librarian Susie Brendle. &quot\;We have some great things lined up and will be announcing our schedule of events and programs very soon.&quot\;</span></span></p>\n\n<p class="font_8" style="line-height: 18.2px\; font-size: 15px\;"><span style="font-family: &quot\;open sans&quot\;\, sans-serif\;"><span class="color_2">Be sure to check with your local branch to learn about how you can keep your kids reading all through Summer.&nbsp\;</span></span></p>\n
LOCATION:Union County Public Library 303 Hunt St Blairsville\, GA
UID:e.256.51228
SEQUENCE:3
DTSTAMP:20260420T203036Z
URL:https://members.visitblairsvillega.com/events/details/storytime-at-union-county-public-library-07-18-2016-51228
END:VEVENT

END:VCALENDAR
