BEGIN:VCALENDAR
VERSION:2.0
PRODID:-//ChamberMaster//Event Calendar 2.0//EN
METHOD:PUBLISH
X-PUBLISHED-TTL:P3D
REFRESH-INTERVAL:P3D
CALSCALE:GREGORIAN
BEGIN:VEVENT
DTSTART:20160312T150000Z
DTEND:20160312T220000Z
X-MICROSOFT-CDO-ALLDAYEVENT:FALSE
SUMMARY:STRA Trial Bike Competition at Trackock Campground & Cabins
DESCRIPTION:The 8th Annual Trackrock Trials will be held on March 12th & 13th. Early this year!!!! This is an event to see and great family fun!  For more info on what trials is all about\, see http://stratrials.com/\n\nBe sure to click on the "Photos" button at http://stratrials.com  to see photos from our past events.
X-ALT-DESC;FMTTYPE=text/html:<div>The 8th Annual Trackrock Trials will be held on March 12th &amp\; 13th. <strong>Early this year!!!! </strong>This is an event to see and great family fun!&nbsp\; For more info on what trials is all about\, see&nbsp\;<a href="http://stratrials.com/" target="_blank">http://stratrials.com/</a></div>\n\n<div>Be sure to click on the &quot\;Photos&quot\; button at&nbsp\;<a href="http://stratrials.com">http://stratrials.com</a> &nbsp\;to see photos from our past events.</div>\n
LOCATION:Trackrock Campground & Cabins
UID:e.256.49434
SEQUENCE:3
DTSTAMP:20260421T022527Z
URL:https://members.visitblairsvillega.com/events/details/stra-trial-bike-competition-at-trackock-campground-cabins-03-12-2016-49434
END:VEVENT

END:VCALENDAR
