BEGIN:VCALENDAR
VERSION:2.0
PRODID:-//ChamberMaster//Event Calendar 2.0//EN
METHOD:PUBLISH
X-PUBLISHED-TTL:P3D
REFRESH-INTERVAL:P3D
CALSCALE:GREGORIAN
BEGIN:VEVENT
DTSTART:20160610T230000Z
DTEND:20160611T020000Z
X-MICROSOFT-CDO-ALLDAYEVENT:FALSE
SUMMARY:Strolling Dinner in the Vines at Hightower Creek Vineyards
DESCRIPTION:To celebrate the 2nd Annual Appalachian Wine & Music Festival\, join us for a special summer strolling wine dinner. Roam the vineyards stopping at five stations for tapas-style dishes and wine pairings. We'll have food by chef Karl Engelmann of Hiawassee's Epic Catering paired with Hightower Creek Vineyards wine. Enjoy summer tunes by Rewind on the deck. Stay tuned for menu and more details.
X-ALT-DESC;FMTTYPE=text/html:<span style="font-family: open sans\; font-size: 14px\;">To celebrate the 2nd Annual Appalachian Wine &amp\; Music Festival\, join us for a special summer strolling wine dinner. Roam the vineyards stopping at five stations for tapas-style dishes and wine pairings. We&rsquo\;ll have food by chef Karl Engelmann of Hiawassee&rsquo\;s Epic Catering paired with Hightower Creek Vineyards wine. Enjoy summer tunes by Rewind on the deck. Stay tuned for menu and more details.</span>
LOCATION:7150 Canaan Drive Hiawassee\, GA 30546
UID:e.256.52696
SEQUENCE:3
DTSTAMP:20260420T204049Z
URL:https://members.visitblairsvillega.com/events/details/strolling-dinner-in-the-vines-at-hightower-creek-vineyards-06-10-2016-52696
END:VEVENT

END:VCALENDAR
