BEGIN:VCALENDAR
VERSION:2.0
PRODID:-//ChamberMaster//Event Calendar 2.0//EN
METHOD:PUBLISH
X-PUBLISHED-TTL:P3D
REFRESH-INTERVAL:P3D
CALSCALE:GREGORIAN
BEGIN:VEVENT
DTSTART:20160820T230000Z
DTEND:20160821T010000Z
X-MICROSOFT-CDO-ALLDAYEVENT:FALSE
SUMMARY:Strolling Dinner in the Vines at Hightower Creek Vineyards
DESCRIPTION:Join us for a lovely summer evening as we host our second Strolling Dinner in the Vines\, featuring a fresh summer menu from Hiawassee's Chef Karl Engelmann of Epic Catering and evening music by Rewind\, all paired with Hightower Creek Vineyards' wine.\n\nFive stations will be set up around the vineyards\, allowing guests to stroll the property at leisure while enjoying delicious food and wine under the summer evening sky.\n\nTickets are $45 per person and include a welcome cocktail\, five small plates and wine pairings. Please RSVP by emailing info@hightowercreekvineyards.com or by calling the tasting room at 706-896-8963.
X-ALT-DESC;FMTTYPE=text/html:<p>Join us for a lovely summer evening as we host our second Strolling Dinner in the Vines\, featuring a fresh summer menu from Hiawassee&rsquo\;s Chef Karl Engelmann of Epic Catering and evening music by Rewind\, all paired with Hightower Creek Vineyards&rsquo\; wine.</p>\n\n<p>Five stations will be set up around the vineyards\, allowing guests to stroll the property at leisure while enjoying delicious food and wine under the summer evening sky.</p>\n\n<p>Tickets are $45 per person and include a welcome cocktail\, five small plates and wine pairings. Please RSVP by emailing info@hightowercreekvineyards.com or by calling the tasting room at&nbsp\;<a href="tel:706-896-8963" style="box-sizing: border-box\; word-wrap: break-word\; background-color: transparent\; color: rgb(120\, 151\, 65)\; text-decoration: none\; background-position: initial initial\; background-repeat: initial initial\;">706-896-8963</a>.</p>\n
LOCATION:Hightower Creek Vineyards\, 7150 Canaan Drive Hiawassee\, GA 30546
UID:e.256.54508
SEQUENCE:3
DTSTAMP:20260420T164939Z
URL:https://members.visitblairsvillega.com/events/details/strolling-dinner-in-the-vines-at-hightower-creek-vineyards-08-20-2016-54508
END:VEVENT

END:VCALENDAR
