BEGIN:VCALENDAR
VERSION:2.0
PRODID:-//ChamberMaster//Event Calendar 2.0//EN
METHOD:PUBLISH
X-PUBLISHED-TTL:P3D
REFRESH-INTERVAL:P3D
CALSCALE:GREGORIAN
BEGIN:VEVENT
DTSTART:20140614T223000Z
DTEND:20140615T010000Z
X-MICROSOFT-CDO-ALLDAYEVENT:FALSE
SUMMARY:Strolling four course dinner at Hightower Creek Vineyards
DESCRIPTION:Enjoy a strolling four course delicious dinner through the beautiful vineyard provided by the Chophouse of Hiawassee's Chef James on Saturday June 14\, 2014 from 6:30pm until 9:00 pm. $50.00 admission includes a four course dinner\, and live entertainment by Hear Now. Each course will be paired with a Hightower Creek Vineyards wine at different stations throughout the vineyard. Seating is limited to 50 people so contact Hightower Creek Vineyards 706-896-8963 or The Chophouse of Hiawassee 706-896-3200 to purchase your tickets now! This would be a wonderful Father's Day present!
X-ALT-DESC;FMTTYPE=text/html:Enjoy a strolling four course delicious dinner through the beautiful vineyard provided by the Chophouse of Hiawassee&#39\;s Chef James on Saturday June 14\, 2014 from 6:30pm until 9:00 pm. $50.00 admission includes a four course dinner\, and live entertainment by Hear Now. Each course will be paired with a Hightower Creek Vineyards wine at different stations throughout the vineyard. Seating is limited to 50 people so contact Hightower Creek Vineyards 706-896-8963 or The Chophouse of Hiawassee 706-896-3200 to purchase your tickets now! This would be a wonderful Father&#39\;s Day present!
LOCATION:Hightower Creek Vineyards 7150 Canaan Drive Hiawassee\, GA 30546
UID:e.256.24510
SEQUENCE:3
DTSTAMP:20260424T105030Z
URL:https://members.visitblairsvillega.com/events/details/strolling-four-course-dinner-at-hightower-creek-vineyards-06-14-2014-24510
END:VEVENT

END:VCALENDAR
