BEGIN:VCALENDAR
VERSION:2.0
PRODID:-//ChamberMaster//Event Calendar 2.0//EN
METHOD:PUBLISH
X-PUBLISHED-TTL:P3D
REFRESH-INTERVAL:P3D
CALSCALE:GREGORIAN
BEGIN:VEVENT
DTSTART;VALUE=DATE:20140704
DTEND;VALUE=DATE:20140705
TRANSP:TRANSPARENT
X-MICROSOFT-CDO-ALLDAYEVENT:TRUE
SUMMARY:Suches Annual Independence Day Fireworks
DESCRIPTION:Suches Annual Independence Day Fireworks \n\nSuches Fire Department invites everyone to join them in their celebration of our country's independence on the fourth at the Woody Gap School. The fireworks will begin at dark\, but the festivities start around 7:00pm for hot dogs\, soft drinks and snacks and the chance to meet friends\, old and new.
X-ALT-DESC;FMTTYPE=text/html:<strong>Suches Annual Independence Day Fireworks </strong><br />\nSuches Fire Department invites everyone to join them in their celebration of our country&#39\;s independence on the fourth at the Woody Gap School. The fireworks will begin at dark\, but the festivities start around 7:00pm for hot dogs\, soft drinks and snacks and the chance to meet friends\, old and new.
LOCATION:Woody Gap School Suches\, GA
UID:e.256.24864
SEQUENCE:3
DTSTAMP:20260424T091845Z
URL:https://members.visitblairsvillega.com/events/details/suches-annual-independence-day-fireworks-07-04-2014-24864
END:VEVENT

END:VCALENDAR
