BEGIN:VCALENDAR
VERSION:2.0
PRODID:-//ChamberMaster//Event Calendar 2.0//EN
METHOD:PUBLISH
X-PUBLISHED-TTL:P3D
REFRESH-INTERVAL:P3D
CALSCALE:GREGORIAN
BEGIN:VEVENT
DTSTART:20150609T180000Z
DTEND:20150609T200000Z
X-MICROSOFT-CDO-ALLDAYEVENT:FALSE
SUMMARY:Summer Ice Cream Social at Monet's
DESCRIPTION:Come to Monet's for a Summer Ice Cream Social! There will be ice cream\, milk shakes\, malts\, sundaes\, and banana splits for purchase. Bring the family and/or friends to this fun\, sweet & refreshing event.
X-ALT-DESC;FMTTYPE=text/html:Come to Monet&#39\;s for a Summer Ice Cream Social! There will be ice cream\, milk shakes\, malts\, sundaes\, and banana splits for purchase. Bring the family and/or friends to this fun\, sweet &amp\; refreshing event.
LOCATION:Monet's Cafe 130 Blue Ridge Street
UID:e.256.40316
SEQUENCE:3
DTSTAMP:20260423T165622Z
URL:https://members.visitblairsvillega.com/events/details/summer-ice-cream-social-at-monet-s-06-09-2015-40316
END:VEVENT

END:VCALENDAR
