BEGIN:VCALENDAR
VERSION:2.0
PRODID:-//ChamberMaster//Event Calendar 2.0//EN
METHOD:PUBLISH
X-PUBLISHED-TTL:P3D
REFRESH-INTERVAL:P3D
CALSCALE:GREGORIAN
BEGIN:VEVENT
DTSTART:20140719T150000Z
DTEND:20140719T220000Z
X-MICROSOFT-CDO-ALLDAYEVENT:FALSE
SUMMARY:Summer Lake Homes Showcase
DESCRIPTION:Tour 6 Homes\n\n\n\nExperience Lake Burton\, Lake Seed and Lake Rabun as you tour 6 beautiful homes shown by: Harry Norman\, REALTORS Luxury Lake and Mountain: and Re/Max of Rabun...representing the best in mountain lake living. Start your tour at any of the homes\, and visit as many as you wish\, but we hope you'll want to see them all and experience what these beautiful Northeast Georgia lakes have to offer. Note that a boat shuttle is available at Hall's Boathouse for visiting 154 Cabana Lane and 311 Ray Point Lane\, both on Lake Rabun.\n\nRefreshments will be provided.\n\nSponsored by BB & T\, Northeast Georgia Living Magazine\, and 92.1 WLHR FM
X-ALT-DESC;FMTTYPE=text/html:<span style="font-family: courier new\;"><strong><span style="font-size: 14px\;"><span style="font-family: arial\;">Tour 6 Homes</span></span></strong></span><br />\n<br />\nExperience Lake Burton\, Lake Seed and Lake Rabun as you tour 6 beautiful homes shown by: Harry Norman\, REALTORS Luxury Lake and Mountain: and Re/Max of Rabun...representing the best in mountain lake living. Start your tour at any of the homes\, and visit as many as you wish\, but we hope you&#39\;ll want to see them all and experience what these beautiful Northeast Georgia lakes have to offer. Note that a boat shuttle is available at Hall&#39\;s Boathouse for visiting 154 Cabana Lane and 311 Ray Point Lane\, both on Lake Rabun.<br />\nRefreshments will be provided.<br />\nSponsored by BB &amp\; T\, Northeast Georgia Living Magazine\, and 92.1 WLHR FM
LOCATION:Tour 6 Homes on Lake Burton\, Lake Seed & Lake Rabun
UID:e.256.25371
SEQUENCE:3
DTSTAMP:20260424T105106Z
URL:https://members.visitblairsvillega.com/events/details/summer-lake-homes-showcase-07-19-2014-25371
END:VEVENT

END:VCALENDAR
