BEGIN:VCALENDAR
VERSION:2.0
PRODID:-//ChamberMaster//Event Calendar 2.0//EN
METHOD:PUBLISH
X-PUBLISHED-TTL:P3D
REFRESH-INTERVAL:P3D
CALSCALE:GREGORIAN
BEGIN:VEVENT
DTSTART:20140621T200000Z
DTEND:20140622T000000Z
X-MICROSOFT-CDO-ALLDAYEVENT:FALSE
SUMMARY:Summer Launch Party
DESCRIPTION:Come Launch the Summer with us in our Gardens and Historic Picnic Area! This celebration will introduce you to the GMRE Center and the Community Council Gardens. Live Music\, Garden Tours\, and Light Refreshments under the summer stars.
X-ALT-DESC;FMTTYPE=text/html:Come Launch the Summer with us in our Gardens and Historic Picnic Area! This celebration will introduce you to the GMRE Center and the Community Council Gardens. Live Music\, Garden Tours\, and Light Refreshments under the summer stars.
LOCATION:The University of Georgia's Mountain Research & Education Center\, 3 miles south of the Blairsville Square.
UID:e.256.24232
SEQUENCE:3
DTSTAMP:20260424T104833Z
URL:https://members.visitblairsvillega.com/events/details/summer-launch-party-06-21-2014-24232
END:VEVENT

END:VCALENDAR
