BEGIN:VCALENDAR
VERSION:2.0
PRODID:-//ChamberMaster//Event Calendar 2.0//EN
METHOD:PUBLISH
X-PUBLISHED-TTL:P3D
REFRESH-INTERVAL:P3D
CALSCALE:GREGORIAN
BEGIN:VEVENT
DTSTART:20140609T150000Z
DTEND:20140609T150000Z
X-MICROSOFT-CDO-ALLDAYEVENT:FALSE
SUMMARY:Summer Reading Program at Union County Public Library
DESCRIPTION:Fizz\, Boom\, Read\n\nSummer Reading Program\n\nJune 2 - July 21\n\n11am
X-ALT-DESC;FMTTYPE=text/html:<em><strong>Fizz\, Boom\, Read<br />\nSummer Reading Program<br />\nJune 2 - July 21<br />\n11am </strong></em>
LOCATION:Union County Public Library 303 Hunt Martin Street Blairsville\, GA
UID:e.256.24462
SEQUENCE:3
DTSTAMP:20260424T104829Z
URL:https://members.visitblairsvillega.com/events/details/summer-reading-program-at-union-county-public-library-06-09-2014-24462
END:VEVENT

END:VCALENDAR
