BEGIN:VCALENDAR
VERSION:2.0
PRODID:-//ChamberMaster//Event Calendar 2.0//EN
METHOD:PUBLISH
X-PUBLISHED-TTL:P3D
REFRESH-INTERVAL:P3D
CALSCALE:GREGORIAN
BEGIN:VEVENT
DTSTART:20160701T140000Z
DTEND:20160701T200000Z
X-MICROSOFT-CDO-ALLDAYEVENT:FALSE
SUMMARY:Summer Youth Art Camp
DESCRIPTION:Sign your kids up for a creative summer during our Summer Youth Art Program.  Choose from several classes offered over a 4 -week span \, Tuesday - Friday\, and let your child's imagination soar.  Visit our website for more information and class schedules. www.blueridgearts.net.
X-ALT-DESC;FMTTYPE=text/html:<span style="font-size: 12pt\;"><span style="font-family: adobe caslon pro bold\,serif\;">Sign your kids up for a creative summer during our Summer Youth Art Program.&nbsp\; Choose from several classes offered over a 4 -week span \, Tuesday - Friday\, and let your child's imagination soar.&nbsp\; Visit our website&nbsp\;for more information and class schedules. www.blueridgearts.net.</span></span><br>\n&nbsp\;
LOCATION:The Art Center (Blue Ridge Mountains Arts Association)
UID:e.256.50890
SEQUENCE:3
DTSTAMP:20260420T202930Z
URL:https://members.visitblairsvillega.com/events/details/summer-youth-art-camp-07-01-2016-50890
END:VEVENT

END:VCALENDAR
