BEGIN:VCALENDAR
VERSION:2.0
PRODID:-//ChamberMaster//Event Calendar 2.0//EN
METHOD:PUBLISH
X-PUBLISHED-TTL:P3D
REFRESH-INTERVAL:P3D
CALSCALE:GREGORIAN
BEGIN:VEVENT
DTSTART:20140703T140000Z
DTEND:20140703T200000Z
X-MICROSOFT-CDO-ALLDAYEVENT:FALSE
SUMMARY:Summer Youth Art Camp
DESCRIPTION:Sign your kids up for a creative summer during our Summer Youth Art Program.  Choose from several classes offered over a 4 -week span and let your children's imagination soar.  Visit our website soon for more information and class schedules. www.blueridgearts.net.\n\n**Schedule coming soon**
X-ALT-DESC;FMTTYPE=text/html:<span style="font-size: 12pt\;"><span style="font-family: adobe caslon pro bold\,serif\;">Sign your kids up for a creative summer during our Summer Youth Art Program.&nbsp\; Choose from several classes offered over a 4 -week span and let your children&#39\;s imagination soar.&nbsp\; Visit our website soon for more information and class schedules. www.blueridgearts.net.</span></span><br />\n**Schedule coming soon**
LOCATION:Blue Ridge Mountains Arts Association (The Art Center) 420 West Main Street Blue Ridge\, GA 30513
UID:e.256.22635
SEQUENCE:3
DTSTAMP:20260424T091929Z
URL:https://members.visitblairsvillega.com/events/details/summer-youth-art-camp-07-03-2014-22635
END:VEVENT

END:VCALENDAR
