BEGIN:VCALENDAR
VERSION:2.0
PRODID:-//ChamberMaster//Event Calendar 2.0//EN
METHOD:PUBLISH
X-PUBLISHED-TTL:P3D
REFRESH-INTERVAL:P3D
CALSCALE:GREGORIAN
BEGIN:VEVENT
DTSTART:20170705T140000Z
DTEND:20170705T200000Z
X-MICROSOFT-CDO-ALLDAYEVENT:FALSE
SUMMARY:Summer Youth Art Camp
DESCRIPTION:Sign your young emerging artists up for a creative summer with our Summer Youth Art Camp. Choose from several classes offered over a 4-week span and let your child's imagination soar.
X-ALT-DESC;FMTTYPE=text/html:<span style="font-size:12pt"><span style="font-family:adobe caslon pro bold\,serif">Sign your young emerging artists up for a creative summer with our Summer Youth Art Camp. Choose from several classes offered over a 4-week span and let your child&#39\;s imagination soar.&nbsp\; </span></span>
LOCATION:Blue Ridge Mountains Arts Association 420 West Main Street Blue Ridge\, GA 30513
UID:e.256.71170
SEQUENCE:3
DTSTAMP:20260419T212912Z
URL:https://members.visitblairsvillega.com/events/details/summer-youth-art-camp-07-05-2017-71170
END:VEVENT

END:VCALENDAR
