BEGIN:VCALENDAR
VERSION:2.0
PRODID:-//ChamberMaster//Event Calendar 2.0//EN
METHOD:PUBLISH
X-PUBLISHED-TTL:P3D
REFRESH-INTERVAL:P3D
CALSCALE:GREGORIAN
BEGIN:VEVENT
DTSTART:20140708T160000Z
DTEND:20140708T160000Z
X-MICROSOFT-CDO-ALLDAYEVENT:FALSE
SUMMARY:Summer Youth Theater Licklog Players
DESCRIPTION:Licklog Players Summer Youth Theater will be June 23-27th and July 7-11th Students from 8-15 will learn acting\, dance costuming\, make-up and set design.. Cost is $85 per student per session include T shirt.. For more information call 828-389-8632 or e-mail licklogplayers@aol.com Licklog Players\, Inc 828-389-8632 www.licklogplayers.org
X-ALT-DESC;FMTTYPE=text/html:Licklog Players Summer Youth Theater will be <strong>June 23-27th and July 7-11th </strong>Students from 8-15 will learn acting\, dance costuming\, make-up and set design.. Cost is $85 per student per session include T shirt.. For more information call 828-389-8632 or e-mail licklogplayers@aol.com Licklog Players\, Inc 828-389-8632 www.licklogplayers.org
LOCATION:Licklog Theater Hayesville\, NC
UID:e.256.24586
SEQUENCE:3
DTSTAMP:20260424T092257Z
URL:https://members.visitblairsvillega.com/events/details/summer-youth-theater-licklog-players-07-08-2014-24586
END:VEVENT

END:VCALENDAR
