BEGIN:VCALENDAR
VERSION:2.0
PRODID:-//ChamberMaster//Event Calendar 2.0//EN
METHOD:PUBLISH
X-PUBLISHED-TTL:P3D
REFRESH-INTERVAL:P3D
CALSCALE:GREGORIAN
BEGIN:VEVENT
DTSTART:20151220T220000Z
DTEND:20151221T000000Z
X-MICROSOFT-CDO-ALLDAYEVENT:FALSE
SUMMARY:Sunday Evening Singing
DESCRIPTION:Please join family and friends to sing old hymns\, Blue Grass hymns and featuring different singing groups.  Fellowship and refreshments will follow the program.
X-ALT-DESC;FMTTYPE=text/html:Please join family and friends to sing old hymns\, Blue Grass hymns and featuring different singing groups.&nbsp\; Fellowship and refreshments will follow the program.
LOCATION:Shady Grove United Methodist Church 1604 Owltown Road Blairsville
UID:e.256.41258
SEQUENCE:3
DTSTAMP:20260421T073932Z
URL:https://members.visitblairsvillega.com/events/details/sunday-evening-singing-12-20-2015-41258
END:VEVENT

END:VCALENDAR
