BEGIN:VCALENDAR
VERSION:2.0
PRODID:-//ChamberMaster//Event Calendar 2.0//EN
METHOD:PUBLISH
X-PUBLISHED-TTL:P3D
REFRESH-INTERVAL:P3D
CALSCALE:GREGORIAN
BEGIN:VEVENT
DTSTART:20150906T180000Z
DTEND:20150906T210000Z
X-MICROSOFT-CDO-ALLDAYEVENT:FALSE
SUMMARY:Sunday Session at Hightower Creek Vineyards
DESCRIPTION:Come join us this Sunday as we welcome Red Fable from 2:00pm   5:00pm.\n\nInstead of our weekly jam session\, we're excited to welcome Red Fable to Hightower Creek! Red Fable is a folk-alt band who finds influence in everyone from Mavis Staples to Sparklehorse and even poet and author William Faulkner. Red Fable takes pride in telling relatable stories through unconventional ways. When it comes to performing live\, Red Fable plays everyone from Janis Joplin to Nirvana and almost always closes with Jefferson Airplane's White Rabbit. We can't wait to bring them to Hightower Creek!\n\n$10.00 admission includes a glass of wine. No jam session today!
X-ALT-DESC;FMTTYPE=text/html:<p><span style="background-color: rgba(255\, 255\, 255\, 0)\;">Come join us this Sunday&nbsp\;as we welcome Red Fable&nbsp\;from 2:00pm &ndash\; 5:00pm.</span></p>\n\n<p><span style="background-color: rgba(255\, 255\, 255\, 0)\;">Instead of our weekly jam session\, we&rsquo\;re excited to welcome Red Fable to Hightower Creek!&nbsp\;Red Fable is a folk-alt band who finds influence in everyone from Mavis Staples to Sparklehorse and even poet and author William Faulkner.&nbsp\;Red Fable takes pride in telling relatable stories through unconventional ways.&nbsp\;When it comes to performing live\, Red Fable plays everyone from Janis Joplin to Nirvana and almost always closes with Jefferson Airplane&rsquo\;s White Rabbit. We can&rsquo\;t wait to bring them to Hightower Creek!</span></p>\n\n<p><span style="background-color: rgba(255\, 255\, 255\, 0)\;">$10.00 admission includes a glass of wine. No jam session today!</span></p>\n
LOCATION:7150 Canaan Drive Hiawassee\, GA 30546
UID:e.256.43938
SEQUENCE:3
DTSTAMP:20260423T121857Z
URL:https://members.visitblairsvillega.com/events/details/sunday-session-at-hightower-creek-vineyards-09-06-2015-43938
END:VEVENT

END:VCALENDAR
