BEGIN:VCALENDAR
VERSION:2.0
PRODID:-//ChamberMaster//Event Calendar 2.0//EN
METHOD:PUBLISH
X-PUBLISHED-TTL:P3D
REFRESH-INTERVAL:P3D
CALSCALE:GREGORIAN
BEGIN:VEVENT
DTSTART:20150417T180000Z
DTEND:20150417T190000Z
X-MICROSOFT-CDO-ALLDAYEVENT:FALSE
SUMMARY:Susan Greene Lecture at Brasstown Manor
DESCRIPTION:Brasstown Manor is hosting a lecture by Psychiatrist Susan Greene with CareNow. She specializes in helping the elderly\, their families\, and those who care for them. She will speak on a variety of topics relating to the issues facing our elderly and caregivers today. This will be a very informative lecture for anyone who has loved ones that are growing older or that need daily care. One of the main topics that will be discussed is how to reduce stress and anxiety for the older person as well as their caregivers and families. Refreshments will be provided. We hope to see you there!
X-ALT-DESC;FMTTYPE=text/html:Brasstown Manor is hosting a lecture by Psychiatrist Susan Greene with CareNow. She specializes in helping the elderly\, their families\, and those who care for them. She will speak on a variety of topics relating to the issues facing our elderly and caregivers today. This will be a very informative lecture for anyone who has loved ones that are growing older or that need daily care. One of the main topics that will be discussed is how to reduce stress and anxiety for the older person as well as their caregivers and families. Refreshments will be provided. We hope to see you there!
LOCATION:Brasstown Manor Retirement Community 108 Church St. Hiawassee\, GA
UID:e.256.39657
SEQUENCE:3
DTSTAMP:20260423T212148Z
URL:https://members.visitblairsvillega.com/events/details/susan-greene-lecture-at-brasstown-manor-04-17-2015-39657
END:VEVENT

END:VCALENDAR
