BEGIN:VCALENDAR
VERSION:2.0
PRODID:-//ChamberMaster//Event Calendar 2.0//EN
METHOD:PUBLISH
X-PUBLISHED-TTL:P3D
REFRESH-INTERVAL:P3D
CALSCALE:GREGORIAN
BEGIN:VEVENT
DTSTART:20140517T190000Z
DTEND:20140517T190000Z
X-MICROSOFT-CDO-ALLDAYEVENT:FALSE
SUMMARY:Sweet Adelines Smokey Mt. Melodies Annual Spring Show
DESCRIPTION:Sweet Adelines Smokie Mountain Melodies\n\nWomen's Barbershop Chorus\n\nAnnual Spring Show - Sing the U.S.A.\n\nSaturday\, May 17\, 2014 at 3:00pm\n\nGlenn Auditorium Young Harris College with the Union County High School ENSEMBLE\n\n\n\nPLUS... Cast your vote for the annual Adeline Idol\, featuring local high school students. The finalists compete on stage and the audience decides the winner. Come help us support our local schools and cast your vote for your favorite singing idol. Get your tickets today! call: 706-745-5943
X-ALT-DESC;FMTTYPE=text/html:<em><strong>Sweet Adelines Smokie Mountain Melodies<br />\nWomen&#39\;s Barbershop Chorus<br />\nAnnual Spring Show - Sing the U.S.A.</strong></em><br />\nSaturday\, May 17\, 2014 at 3:00pm<br />\nGlenn Auditorium Young Harris College with the Union County High School ENSEMBLE<br />\n<br />\nPLUS... Cast your vote for the annual Adeline Idol\, featuring local high school students. The finalists compete on stage and the audience decides the winner. Come help us support our local schools and cast your vote for your favorite singing idol. Get your tickets today! call: 706-745-5943
LOCATION:Young Harris College Glenn Auditorium Young Harris\, GA
UID:e.256.23663
SEQUENCE:3
DTSTAMP:20260424T122611Z
URL:https://members.visitblairsvillega.com/events/details/sweet-adelines-smokey-mt-melodies-annual-spring-show-05-17-2014-23663
END:VEVENT

END:VCALENDAR
