BEGIN:VCALENDAR
VERSION:2.0
PRODID:-//ChamberMaster//Event Calendar 2.0//EN
METHOD:PUBLISH
X-PUBLISHED-TTL:P3D
REFRESH-INTERVAL:P3D
CALSCALE:GREGORIAN
BEGIN:VEVENT
DTSTART:20150214T150000Z
DTEND:20150215T010000Z
X-MICROSOFT-CDO-ALLDAYEVENT:FALSE
SUMMARY:Sweetheart Arts & Crafts Show
DESCRIPTION:Juried crafters event featuring different categories of crafters and artist during this 3 day event. This is an indoor event\, No Charge to attend.\n\nPresented by: Robin Roberts Promotions
X-ALT-DESC;FMTTYPE=text/html:Juried crafters event featuring different categories of crafters and artist during this 3 day event. This is an indoor event\, No Charge to attend.<br />\nPresented by: Robin Roberts Promotions
LOCATION:Brasstown Valley Resort & Spa\, Young Harris GA
UID:e.256.36675
SEQUENCE:3
DTSTAMP:20260423T230012Z
URL:https://members.visitblairsvillega.com/events/details/sweetheart-arts-crafts-show-02-14-2015-36675
END:VEVENT

END:VCALENDAR
