BEGIN:VCALENDAR
VERSION:2.0
PRODID:-//ChamberMaster//Event Calendar 2.0//EN
METHOD:PUBLISH
X-PUBLISHED-TTL:P3D
REFRESH-INTERVAL:P3D
CALSCALE:GREGORIAN
BEGIN:VEVENT
DTSTART:20170701T230000Z
DTEND:20170702T023000Z
X-MICROSOFT-CDO-ALLDAYEVENT:FALSE
SUMMARY:T. Graham Brown & Jimmy Fortune in Concert
DESCRIPTION:T. Graham Brown & Jimmy Fortune will be in concert in the Anderson Music Hall at Georgia Mountain Fairgrounds in Hiawassee\, GA
X-ALT-DESC;FMTTYPE=text/html:T. Graham Brown &amp\; Jimmy Fortune will be in concert in the Anderson Music Hall at Georgia Mountain Fairgrounds in Hiawassee\, GA
LOCATION:Georgia Mountain Fairgrounds 1311 Music Hall Road Hiawassee\, GA 30546
UID:e.256.63242
SEQUENCE:3
DTSTAMP:20260419T213159Z
URL:https://members.visitblairsvillega.com/events/details/t-graham-brown-jimmy-fortune-in-concert-63242
END:VEVENT

END:VCALENDAR
