BEGIN:VCALENDAR
VERSION:2.0
PRODID:-//ChamberMaster//Event Calendar 2.0//EN
METHOD:PUBLISH
X-PUBLISHED-TTL:P3D
REFRESH-INTERVAL:P3D
CALSCALE:GREGORIAN
BEGIN:VEVENT
DTSTART:20150627T220000Z
DTEND:20150628T003000Z
X-MICROSOFT-CDO-ALLDAYEVENT:FALSE
SUMMARY:Talent Night at 7m Family Farms
DESCRIPTION:7M Farms Talent Night at the farm.\n\nFree to the public!\n\nBring your chair or blanket and sit and listen to the local talent. They play for tips only. \n\nEvery Saturday night 6pm -8:30 weather permitting.\n\nHot dogs\, burgers\, drinks\, & BBQ will be available if someone wants a snack.  \n\nIf you are interested in playing & singing\, email dmills706@yahoo.com
X-ALT-DESC;FMTTYPE=text/html:<span style="font-size: medium\;"><span style="font-family: times new roman\;">7M Farms Talent Night at the farm.<br />\nFree to the public!<br />\nBring your chair or blanket and sit and listen to the local talent. They play for tips only.&nbsp\;</span></span><br />\n<span style="font-size: 12pt\;"><span style="font-family: times new roman\,serif\;">Every Saturday night 6pm -8:30 weather permitting.<br />\nHot dogs\, burgers\,&nbsp\;drinks\, &amp\;&nbsp\;BBQ will be available if someone wants a snack.&nbsp\;&nbsp\;</span></span><br />\n<span style="font-size: medium\;"><span style="font-family: times new roman\;">If you are interested in&nbsp\;playing &amp\;&nbsp\;singing\, email </span></span><a href="mailto:dmills706@yahoo.com"><span style="font-size: medium\;"><span style="font-family: times new roman\;"><span style="color: rgb(0\, 0\, 255)\;">dmills706@yahoo.com</span></span></span></a>&nbsp\;<br />\n<span style="font-size: 12pt\;"><span style="font-family: times new roman\,serif\;">&nbsp\;&nbsp\;</span></span>
LOCATION:7m Family Farms Crump Creek Road\, Blairsville
UID:e.256.40356
SEQUENCE:3
DTSTAMP:20260423T182750Z
URL:https://members.visitblairsvillega.com/events/details/talent-night-at-7m-family-farms-06-27-2015-40356
END:VEVENT

END:VCALENDAR
