BEGIN:VCALENDAR
VERSION:2.0
PRODID:-//ChamberMaster//Event Calendar 2.0//EN
METHOD:PUBLISH
X-PUBLISHED-TTL:P3D
REFRESH-INTERVAL:P3D
CALSCALE:GREGORIAN
BEGIN:VEVENT
DTSTART:20170615T160000Z
DTEND:20170615T180000Z
X-MICROSOFT-CDO-ALLDAYEVENT:FALSE
SUMMARY:Tampa Thursday @ Nani's Cuban Restaurant wit Dr Larry Flegle
DESCRIPTION:Tampa Thursday @ Nani's Cuban Restaurant \n\nDr Larry  Flege will be hosting from WUCG Radio.\n\nIf you are from the Tampa Bay area  come and join us for lunch @ Nani's Cuban Restaurant from 12 to 2 pm to meet and mingle with people of The Tampa Bay area that now lives in Blairsville  or near vicinity.  Dr Larry  will be hosting  so come on down to meet and mingle for lunch @Nani's Cuban Restaurant and WUCG
X-ALT-DESC;FMTTYPE=text/html:Tampa Thursday @ Nani&#39\;s Cuban Restaurant&nbsp\;<br />\nDr Larry &nbsp\;Flege&nbsp\;will be hosting from WUCG Radio.<br />\nIf you are from the Tampa Bay area &nbsp\;come and join us for lunch @ Nani&#39\;s Cuban Restaurant from 12 to 2 pm to meet and mingle with people of The Tampa Bay area that now lives in Blairsville &nbsp\;or near vicinity. &nbsp\;Dr Larry &nbsp\;will be hosting &nbsp\;so come on down to meet and mingle for lunch @Nani&#39\;s Cuban Restaurant and WUCG
LOCATION:51 D Earnest Street Blairsville\, GA
UID:e.256.74194
SEQUENCE:3
DTSTAMP:20260419T233527Z
URL:https://members.visitblairsvillega.com/events/details/tampa-thursday-nani-s-cuban-restaurant-wit-dr-larry-flegle-74194
END:VEVENT

END:VCALENDAR
