BEGIN:VCALENDAR
VERSION:2.0
PRODID:-//ChamberMaster//Event Calendar 2.0//EN
METHOD:PUBLISH
X-PUBLISHED-TTL:P3D
REFRESH-INTERVAL:P3D
CALSCALE:GREGORIAN
BEGIN:VEVENT
DTSTART:20140503T223000Z
DTEND:20140504T010000Z
X-MICROSOFT-CDO-ALLDAYEVENT:FALSE
SUMMARY:Taste of Home Cooking School
DESCRIPTION:At a Taste of Home Cooking School show\, you'll experience a 2-hour demonstration of exciting recipes. Our Culinary Specialists will show step-by-step instructions on how to create satisfying and flavorful dishes. Additionally\, everyone will receive a gift bag and one of our quality Taste of Home cookbooks. You'll also have the opportunity to register for door prizes\, including the recipes created on stage that night! The Taste of Home Cooking School Made Easy program is a 1 hour program available in select locations across the Midwest and Mid-Atlantic regions. The jam-packed program offers easy-to-prepare recipes and creative craft and decorating ideas. Each guest will receive the Taste of Home Recipe Card Collection Cookbook showcasing the recipes displayed on stage. You'll also receive a gift bag and be entered for prize drawings at the show.
X-ALT-DESC;FMTTYPE=text/html:At a Taste of Home Cooking School show\, you&#39\;ll experience a 2-hour demonstration of exciting recipes. Our Culinary Specialists will show step-by-step instructions on how to create satisfying and flavorful dishes. Additionally\, everyone will receive a gift bag and one of our quality Taste of Home cookbooks. You&#39\;ll also have the opportunity to register for door prizes\, including the recipes created on stage that night! The Taste of Home Cooking School Made Easy program is a 1 hour program available in select locations across the Midwest and Mid-Atlantic regions. The jam-packed program offers easy-to-prepare recipes and creative craft and decorating ideas. Each guest will receive the Taste of Home Recipe Card Collection Cookbook showcasing the recipes displayed on stage. You&#39\;ll also receive a gift bag and be entered for prize drawings at the show.
LOCATION:Venue: The Smoky Mountain Center for the Performing Arts Mailing Address: Smoky Mountain Center for the Performing Arts 1028 Georgia Road Franklin\, NC 28734
UID:e.256.24242
SEQUENCE:3
DTSTAMP:20260424T133754Z
URL:https://members.visitblairsvillega.com/events/details/taste-of-home-cooking-school-05-03-2014-24242
END:VEVENT

END:VCALENDAR
