BEGIN:VCALENDAR
VERSION:2.0
PRODID:-//ChamberMaster//Event Calendar 2.0//EN
METHOD:PUBLISH
X-PUBLISHED-TTL:P3D
REFRESH-INTERVAL:P3D
CALSCALE:GREGORIAN
BEGIN:VEVENT
DTSTART:20140603T220000Z
DTEND:20140604T000000Z
X-MICROSOFT-CDO-ALLDAYEVENT:FALSE
SUMMARY:Taste of the Southern Highlands
DESCRIPTION:Tickets on Sale Now for the ultimate "Mountain Tasting Experience". Come enjoy the culinary treats of resorts\, wineries\, and specialty food and drink shops from Towns\, Union\, Clay\, Cherokee\, and Macon counties.
X-ALT-DESC;FMTTYPE=text/html:Tickets on Sale Now for the ultimate &quot\;Mountain Tasting Experience&quot\;. Come enjoy the culinary treats of resorts\, wineries\, and specialty food and drink shops from Towns\, Union\, Clay\, Cherokee\, and Macon counties.
LOCATION:Georgia Mountain Fairgrounds Hiawassee\, GA
UID:e.256.24469
SEQUENCE:3
DTSTAMP:20260424T105459Z
URL:https://members.visitblairsvillega.com/events/details/taste-of-the-southern-highlands-06-03-2014-24469
END:VEVENT

END:VCALENDAR
