BEGIN:VCALENDAR
VERSION:2.0
PRODID:-//ChamberMaster//Event Calendar 2.0//EN
METHOD:PUBLISH
X-PUBLISHED-TTL:P3D
REFRESH-INTERVAL:P3D
CALSCALE:GREGORIAN
BEGIN:VEVENT
DTSTART:20140619T193000Z
DTEND:20140619T203000Z
X-MICROSOFT-CDO-ALLDAYEVENT:FALSE
SUMMARY:Teens Art
DESCRIPTION:Teens Art\n\nAll supplies included\, just bring your creative side\, and a friend! This class is meant to be as much fun as instructional and you're encouraged to wear play clothes!
X-ALT-DESC;FMTTYPE=text/html:<span style="font-family:calibri\,sans-serif\;"><span style="font-size:11.0pt\;">Teens Art<br />\nAll supplies included\, just bring your creative side\, and a friend! This class is meant to be as much fun as instructional and you&#39\;re encouraged to wear play clothes!</span></span>
LOCATION:Inspire Art Studio 51 Earnest St. Suite C
UID:e.256.24780
SEQUENCE:3
DTSTAMP:20260424T104829Z
URL:https://members.visitblairsvillega.com/events/details/teens-art-06-19-2014-24780
END:VEVENT

END:VCALENDAR
