BEGIN:VCALENDAR
VERSION:2.0
PRODID:-//ChamberMaster//Event Calendar 2.0//EN
METHOD:PUBLISH
X-PUBLISHED-TTL:P3D
REFRESH-INTERVAL:P3D
CALSCALE:GREGORIAN
BEGIN:VEVENT
DTSTART:20151126T170000Z
DTEND:20151127T000000Z
X-MICROSOFT-CDO-ALLDAYEVENT:FALSE
SUMMARY:Thanksgiving Buffet Brasstown Valley Resort
DESCRIPTION:Brasstown Valley Resort & Spa in Young Harris will be hosting their annual Family Thanksgiving Day Buffet. Seating does begin at 12 noon and ends at 7pm. Our team of professional Chefs offer a mouth watering buffet that includes Gourmet Salads\, Breads\, Cheese's\, Fruit\, Seafood\, Carving Station\, Hot Entrees and Desserts. A copy of the menu can be found on our web site at www.brasstownvalley.com Seating does fill up very quickly so reservations are very strongly recommend and can be made by calling 706-379-4617 Brasstown Valley resort will be beautifully decorated with over 23 Holiday Trees\, Light and a Gingerbread Village complete with Trains.
X-ALT-DESC;FMTTYPE=text/html:Brasstown Valley Resort &amp\; Spa in Young Harris will be hosting their annual Family Thanksgiving Day Buffet. Seating does begin at 12 noon and ends at 7pm. Our team of professional Chefs offer a mouth watering buffet that includes Gourmet Salads\, Breads\, Cheese&#39\;s\, Fruit\, Seafood\, Carving Station\, Hot Entrees and Desserts. A copy of the menu can be found on our web site at www.brasstownvalley.com Seating does fill up very quickly so reservations are very strongly recommend and can be made by calling 706-379-4617 Brasstown Valley resort will be beautifully decorated with over 23 Holiday Trees\, Light and a Gingerbread Village complete with Trains.
LOCATION:Brasstown Valley Resort & Spa Young Harris GA
UID:e.256.44255
SEQUENCE:3
DTSTAMP:20260423T085526Z
URL:https://members.visitblairsvillega.com/events/details/thanksgiving-buffet-brasstown-valley-resort-11-26-2015-44255
END:VEVENT

END:VCALENDAR
