BEGIN:VCALENDAR
VERSION:2.0
PRODID:-//ChamberMaster//Event Calendar 2.0//EN
METHOD:PUBLISH
X-PUBLISHED-TTL:P3D
REFRESH-INTERVAL:P3D
CALSCALE:GREGORIAN
BEGIN:VEVENT
DTSTART:20151009T150000Z
DTEND:20151009T210000Z
X-MICROSOFT-CDO-ALLDAYEVENT:FALSE
SUMMARY:The 23rd Annual Rotary Golf Classic
DESCRIPTION:The Golf Classic is presented by Union General Hospital\, Inc. and The Rotary Club of Union County\, GA.  The proceeds from the Golf Classic support a variety of local organizations including the Boy Scouts\, Girl Scouts\, Child Literacy and other programs in Union County.
X-ALT-DESC;FMTTYPE=text/html:The Golf Classic is presented by Union General Hospital\, Inc. and The Rotary Club of Union County\, GA.&nbsp\; The proceeds from the Golf Classic support a variety of local organizations including the Boy Scouts\, Girl Scouts\, Child Literacy and other programs in Union County.
LOCATION:The Old Union Golf Club located off 129 S\, Blairsville\, Georgia
UID:e.256.43926
SEQUENCE:3
DTSTAMP:20260423T102938Z
URL:https://members.visitblairsvillega.com/events/details/the-23rd-annual-rotary-golf-classic-10-09-2015-43926
END:VEVENT

END:VCALENDAR
