BEGIN:VCALENDAR
VERSION:2.0
PRODID:-//ChamberMaster//Event Calendar 2.0//EN
METHOD:PUBLISH
X-PUBLISHED-TTL:P3D
REFRESH-INTERVAL:P3D
CALSCALE:GREGORIAN
BEGIN:VEVENT
DTSTART:20151108T003000Z
DTEND:20151108T030000Z
X-MICROSOFT-CDO-ALLDAYEVENT:FALSE
SUMMARY:The Addams Family Musical
DESCRIPTION:The Addams Family Musical features a brand new original story based on the beloved comic strip created by Charles Addams and includes appearances by Gomez\, his lovely Morticia\, Uncle Fester\, Lurch\, Wednesday\, Pugsly\, Grandma Addams and more. Wednesday Addams\, the ultimate princess of darkness\, has grown up and fallen in love with a sweet\, smart young man from a respectable family - a man her parents have never met. Everything will change for the whole family on the fateful night they host a dinner for Wednesday's 'normal' boyfriend and his parents. Hilarious fun ensues and laughs are non-stop when these two unlikely families finally meet and suffer from a the mischief of Wednesday's brother\, Pugsly and a magic potion created by Grandma and Uncle Fester that falls into the wrong cup... and you thought your family was weird? Cooky\, spooky and just plain fun! Presented by the Overlook Theatre Company
X-ALT-DESC;FMTTYPE=text/html:The Addams Family Musical features a brand new original story based on the beloved comic strip created by Charles Addams and includes appearances by Gomez\, his lovely Morticia\, Uncle Fester\, Lurch\, Wednesday\, Pugsly\, Grandma Addams and more. Wednesday Addams\, the ultimate princess of darkness\, has grown up and fallen in love with a sweet\, smart young man from a respectable family - a man her parents have never met. Everything will change for the whole family on the fateful night they host a dinner for Wednesday&#39\;s &#39\;normal&#39\; boyfriend and his parents. Hilarious fun ensues and laughs are non-stop when these two unlikely families finally meet and suffer from a the mischief of Wednesday&#39\;s brother\, Pugsly and a magic potion created by Grandma and Uncle Fester that falls into the wrong cup... and you thought your family was weird? Cooky\, spooky and just plain fun! Presented by the Overlook Theatre Company
LOCATION:Smoky Mountain Center for the Performing Arts 1028 Georgia Road Franklin\, NC 28734
UID:e.256.41401
SEQUENCE:3
DTSTAMP:20260423T085814Z
URL:https://members.visitblairsvillega.com/events/details/the-addams-family-musical-11-07-2015-41401
END:VEVENT

END:VCALENDAR
