BEGIN:VCALENDAR
VERSION:2.0
PRODID:-//ChamberMaster//Event Calendar 2.0//EN
METHOD:PUBLISH
X-PUBLISHED-TTL:P3D
REFRESH-INTERVAL:P3D
CALSCALE:GREGORIAN
BEGIN:VEVENT
DTSTART:20140808T140000Z
DTEND:20140808T220000Z
X-MICROSOFT-CDO-ALLDAYEVENT:FALSE
SUMMARY:The Art of Colleen Sterling
DESCRIPTION:Enjoy the textured paintings and pastel drawings by Colleen Sterling who captures the beauty of the land in an intriguing and mysterious way. Opening reception\, August 2\, 5 - 7pm.
X-ALT-DESC;FMTTYPE=text/html:<br />\n<span style="font-size: 12pt\;"><span style="font-family: adobe caslon pro bold\,serif\;">Enjoy the textured paintings and pastel drawings by Colleen Sterling who captures the beauty of the land in an intriguing and mysterious way. Opening reception\, August 2\, 5 - 7pm. </span></span><br />\n<br type="_moz" />\n
LOCATION:Blue Ridge Mountains Arts Association (The Art Center) 420 West Main Street Blue Ridge\, GA 30513
UID:e.256.22804
SEQUENCE:3
DTSTAMP:20260424T074036Z
URL:https://members.visitblairsvillega.com/events/details/the-art-of-colleen-sterling-08-08-2014-22804
END:VEVENT

END:VCALENDAR
