BEGIN:VCALENDAR
VERSION:2.0
PRODID:-//ChamberMaster//Event Calendar 2.0//EN
METHOD:PUBLISH
X-PUBLISHED-TTL:P3D
REFRESH-INTERVAL:P3D
CALSCALE:GREGORIAN
BEGIN:VEVENT
DTSTART:20140320T140000Z
DTEND:20140320T220000Z
X-MICROSOFT-CDO-ALLDAYEVENT:FALSE
SUMMARY:The Art of Keith Burgess - Artist in Residence
DESCRIPTION:Enjoy Keith's representational oil paintings of unforgettable landscapes and even some portrait paintings as well. You will awed by the talent of our 1st Quarter Artist in Residence Keith Burgess.
X-ALT-DESC;FMTTYPE=text/html:<span style="font-size: 12pt\;"><span style="font-family: adobe caslon pro bold\,serif\;">Enjoy Keith&rsquo\;s representational oil paintings of unforgettable landscapes and even some portrait paintings as well. You will awed by the talent of our 1<sup>st</sup> Quarter Artist in Residence Keith Burgess.&nbsp\;&nbsp\;</span></span><br type="_moz" />\n
LOCATION:Blue Ridge Mountains Arts Association 420 West Main Street Blue Ridge\, GA 30513
UID:e.256.22458
SEQUENCE:3
DTSTAMP:20260424T153556Z
URL:https://members.visitblairsvillega.com/events/details/the-art-of-keith-burgess-artist-in-residence-03-20-2014-22458
END:VEVENT

END:VCALENDAR
